BEGIN:VCALENDAR
VERSION:2.0
PRODID:-//MDR - ECPv6.15.20//NONSGML v1.0//EN
CALSCALE:GREGORIAN
METHOD:PUBLISH
X-ORIGINAL-URL:https://mdr-pulheim.de
X-WR-CALDESC:Veranstaltungen für MDR
REFRESH-INTERVAL;VALUE=DURATION:PT1H
X-Robots-Tag:noindex
X-PUBLISHED-TTL:PT1H
BEGIN:VTIMEZONE
TZID:Europe/Berlin
BEGIN:DAYLIGHT
TZOFFSETFROM:+0100
TZOFFSETTO:+0200
TZNAME:CEST
DTSTART:20240331T010000
END:DAYLIGHT
BEGIN:STANDARD
TZOFFSETFROM:+0200
TZOFFSETTO:+0100
TZNAME:CET
DTSTART:20241027T010000
END:STANDARD
BEGIN:DAYLIGHT
TZOFFSETFROM:+0100
TZOFFSETTO:+0200
TZNAME:CEST
DTSTART:20250330T010000
END:DAYLIGHT
BEGIN:STANDARD
TZOFFSETFROM:+0200
TZOFFSETTO:+0100
TZNAME:CET
DTSTART:20251026T010000
END:STANDARD
BEGIN:DAYLIGHT
TZOFFSETFROM:+0100
TZOFFSETTO:+0200
TZNAME:CEST
DTSTART:20260329T010000
END:DAYLIGHT
BEGIN:STANDARD
TZOFFSETFROM:+0200
TZOFFSETTO:+0100
TZNAME:CET
DTSTART:20261025T010000
END:STANDARD
END:VTIMEZONE
BEGIN:VEVENT
DTSTART;VALUE=DATE:20250603
DTEND;VALUE=DATE:20250604
DTSTAMP:20260421T113323
CREATED:20250523T092219Z
LAST-MODIFIED:20250523T092403Z
UID:7451-1748908800-1748995199@mdr-pulheim.de
SUMMARY:ZP Englisch. Dienstag\, 3. Juni
DESCRIPTION:
URL:https://mdr-pulheim.de/event/7451/
END:VEVENT
BEGIN:VEVENT
DTSTART;VALUE=DATE:20250605
DTEND;VALUE=DATE:20250606
DTSTAMP:20260421T113323
CREATED:20250523T092245Z
LAST-MODIFIED:20250523T092353Z
UID:7454-1749081600-1749167999@mdr-pulheim.de
SUMMARY:ZP Mathematik. Donnerstag\, 5. Juni
DESCRIPTION:
URL:https://mdr-pulheim.de/event/7454/
END:VEVENT
BEGIN:VEVENT
DTSTART;VALUE=DATE:20250609
DTEND;VALUE=DATE:20250611
DTSTAMP:20260421T113323
CREATED:20250523T092731Z
LAST-MODIFIED:20250523T092731Z
UID:7458-1749427200-1749599999@mdr-pulheim.de
SUMMARY:Pfingstferien: 9. und 10.6 :-)
DESCRIPTION:
URL:https://mdr-pulheim.de/event/pfingstferien-9-und-10-6/
END:VEVENT
BEGIN:VEVENT
DTSTART;VALUE=DATE:20250619
DTEND;VALUE=DATE:20250621
DTSTAMP:20260421T113323
CREATED:20250523T093106Z
LAST-MODIFIED:20250523T102133Z
UID:7460-1750291200-1750463999@mdr-pulheim.de
SUMMARY:Fronleichnanm + beweglicher Ferientag 19. und 20.6 :-)
DESCRIPTION:
URL:https://mdr-pulheim.de/event/fronleichnanm-beweglicher-ferientag-19-und-20-6/
END:VEVENT
BEGIN:VEVENT
DTSTART;VALUE=DATE:20250626
DTEND;VALUE=DATE:20250627
DTSTAMP:20260421T113323
CREATED:20250523T102526Z
LAST-MODIFIED:20250523T102526Z
UID:7463-1750896000-1750982399@mdr-pulheim.de
SUMMARY:Ausflug 10er Donnerstag\, 26. Juni
DESCRIPTION:
URL:https://mdr-pulheim.de/event/ausflug-10er-donnerstag-26-juni/
END:VEVENT
END:VCALENDAR