BEGIN:VCALENDAR
VERSION:2.0
PRODID:-//MDR - ECPv6.15.20//NONSGML v1.0//EN
CALSCALE:GREGORIAN
METHOD:PUBLISH
X-ORIGINAL-URL:https://mdr-pulheim.de
X-WR-CALDESC:Veranstaltungen für MDR
REFRESH-INTERVAL;VALUE=DURATION:PT1H
X-Robots-Tag:noindex
X-PUBLISHED-TTL:PT1H
BEGIN:VTIMEZONE
TZID:Europe/Berlin
BEGIN:DAYLIGHT
TZOFFSETFROM:+0100
TZOFFSETTO:+0200
TZNAME:CEST
DTSTART:20240331T010000
END:DAYLIGHT
BEGIN:STANDARD
TZOFFSETFROM:+0200
TZOFFSETTO:+0100
TZNAME:CET
DTSTART:20241027T010000
END:STANDARD
BEGIN:DAYLIGHT
TZOFFSETFROM:+0100
TZOFFSETTO:+0200
TZNAME:CEST
DTSTART:20250330T010000
END:DAYLIGHT
BEGIN:STANDARD
TZOFFSETFROM:+0200
TZOFFSETTO:+0100
TZNAME:CET
DTSTART:20251026T010000
END:STANDARD
BEGIN:DAYLIGHT
TZOFFSETFROM:+0100
TZOFFSETTO:+0200
TZNAME:CEST
DTSTART:20260329T010000
END:DAYLIGHT
BEGIN:STANDARD
TZOFFSETFROM:+0200
TZOFFSETTO:+0100
TZNAME:CET
DTSTART:20261025T010000
END:STANDARD
END:VTIMEZONE
BEGIN:VEVENT
DTSTART;VALUE=DATE:20250501
DTEND;VALUE=DATE:20250502
DTSTAMP:20260421T124549
CREATED:20250321T094224Z
LAST-MODIFIED:20250321T094224Z
UID:7324-1746057600-1746143999@mdr-pulheim.de
SUMMARY:1. Mai. Feiertag :-)
DESCRIPTION:
URL:https://mdr-pulheim.de/event/1-mai-feiertag/
END:VEVENT
BEGIN:VEVENT
DTSTART;TZID=Europe/Berlin:20250514T143000
DTEND;TZID=Europe/Berlin:20250514T183000
DTSTAMP:20260421T124549
CREATED:20250321T094640Z
LAST-MODIFIED:20250321T094640Z
UID:7328-1747233000-1747247400@mdr-pulheim.de
SUMMARY:Elternsprechtag Mittwoch\, 14. Mai·14:30 bis 18:30
DESCRIPTION:
URL:https://mdr-pulheim.de/event/elternsprechtag-mittwoch-14-mai%c2%b71430-bis-1830/
END:VEVENT
BEGIN:VEVENT
DTSTART;VALUE=DATE:20250522
DTEND;VALUE=DATE:20250523
DTSTAMP:20260421T124549
CREATED:20250321T094902Z
LAST-MODIFIED:20250321T094902Z
UID:7331-1747872000-1747958399@mdr-pulheim.de
SUMMARY:Termin Diffefernzierung-Wahl Stufe 6: Donnerstag\, 22.5
DESCRIPTION:
URL:https://mdr-pulheim.de/event/termin-diffefernzierung-wahl-stufe-6-donnerstag-22-5/
END:VEVENT
BEGIN:VEVENT
DTSTART;VALUE=DATE:20250527
DTEND;VALUE=DATE:20250528
DTSTAMP:20260421T124549
CREATED:20250321T094935Z
LAST-MODIFIED:20250321T094935Z
UID:7333-1748304000-1748390399@mdr-pulheim.de
SUMMARY:ZP Deutsch: Dienstag\, 27. Mai
DESCRIPTION:
URL:https://mdr-pulheim.de/event/zp-deutsch-dienstag-27-mai/
END:VEVENT
BEGIN:VEVENT
DTSTART;VALUE=DATE:20250529
DTEND;VALUE=DATE:20250530
DTSTAMP:20260421T124549
CREATED:20250321T095129Z
LAST-MODIFIED:20250321T095217Z
UID:7335-1748476800-1748563199@mdr-pulheim.de
SUMMARY:Christi Himmelfahrt\, Feiertag: Donnerstag 29. Mai :-)
DESCRIPTION:
URL:https://mdr-pulheim.de/event/christi-himmelfahrt-feiertag-donnerstag-29-mai/
END:VEVENT
BEGIN:VEVENT
DTSTART;VALUE=DATE:20250530
DTEND;VALUE=DATE:20250531
DTSTAMP:20260421T124549
CREATED:20250321T095205Z
LAST-MODIFIED:20250321T095205Z
UID:7337-1748563200-1748649599@mdr-pulheim.de
SUMMARY:Beweglicher Ferientag - keine Schule: Freitag\, 30. Mai :-)
DESCRIPTION:
URL:https://mdr-pulheim.de/event/beweglicher-ferientag-keine-schule-freitag-30-mai/
END:VEVENT
END:VCALENDAR