BEGIN:VCALENDAR
VERSION:2.0
PRODID:-//MDR - ECPv6.15.20//NONSGML v1.0//EN
CALSCALE:GREGORIAN
METHOD:PUBLISH
X-WR-CALNAME:MDR
X-ORIGINAL-URL:https://mdr-pulheim.de
X-WR-CALDESC:Veranstaltungen für MDR
REFRESH-INTERVAL;VALUE=DURATION:PT1H
X-Robots-Tag:noindex
X-PUBLISHED-TTL:PT1H
BEGIN:VTIMEZONE
TZID:Europe/Berlin
BEGIN:DAYLIGHT
TZOFFSETFROM:+0100
TZOFFSETTO:+0200
TZNAME:CEST
DTSTART:20240331T010000
END:DAYLIGHT
BEGIN:STANDARD
TZOFFSETFROM:+0200
TZOFFSETTO:+0100
TZNAME:CET
DTSTART:20241027T010000
END:STANDARD
BEGIN:DAYLIGHT
TZOFFSETFROM:+0100
TZOFFSETTO:+0200
TZNAME:CEST
DTSTART:20250330T010000
END:DAYLIGHT
BEGIN:STANDARD
TZOFFSETFROM:+0200
TZOFFSETTO:+0100
TZNAME:CET
DTSTART:20251026T010000
END:STANDARD
BEGIN:DAYLIGHT
TZOFFSETFROM:+0100
TZOFFSETTO:+0200
TZNAME:CEST
DTSTART:20260329T010000
END:DAYLIGHT
BEGIN:STANDARD
TZOFFSETFROM:+0200
TZOFFSETTO:+0100
TZNAME:CET
DTSTART:20261025T010000
END:STANDARD
END:VTIMEZONE
BEGIN:VEVENT
DTSTART;VALUE=DATE:20250228
DTEND;VALUE=DATE:20250305
DTSTAMP:20260421T150509
CREATED:20250112T194415Z
LAST-MODIFIED:20250112T195117Z
UID:7230-1740700800-1741132799@mdr-pulheim.de
SUMMARY:Karneval! Kein Unterricht. Freitag\, Montag\, Dienstag 🤡
DESCRIPTION:
URL:https://mdr-pulheim.de/event/karneval-kein-unterricht-freitag-bis-dienstag-%f0%9f%a4%a1/
END:VEVENT
BEGIN:VEVENT
DTSTART;VALUE=DATE:20250305
DTEND;VALUE=DATE:20250306
DTSTAMP:20260421T150509
CREATED:20250112T194536Z
LAST-MODIFIED:20250112T194536Z
UID:7232-1741132800-1741219199@mdr-pulheim.de
SUMMARY:Lehrerfortbildung - Studientag\, kein Unterricht. Mi\, 5. März
DESCRIPTION:
URL:https://mdr-pulheim.de/event/lehrerfortbildung-studientag-kein-unterricht-mi-5-maerz/
END:VEVENT
BEGIN:VEVENT
DTSTART;VALUE=DATE:20250314
DTEND;VALUE=DATE:20250315
DTSTAMP:20260421T150509
CREATED:20250228T212506Z
LAST-MODIFIED:20250228T212506Z
UID:7306-1741910400-1741996799@mdr-pulheim.de
SUMMARY:Erstgespräche BWO 9c Freitag\, 14. März
DESCRIPTION:
URL:https://mdr-pulheim.de/event/erstgespraeche-bwo-9c-freitag-14-maerz/
END:VEVENT
BEGIN:VEVENT
DTSTART;VALUE=DATE:20250321
DTEND;VALUE=DATE:20250322
DTSTAMP:20260421T150509
CREATED:20250228T212611Z
LAST-MODIFIED:20250228T212611Z
UID:7308-1742515200-1742601599@mdr-pulheim.de
SUMMARY:Erstgespräche BWO 9d Freitag\, 21. März
DESCRIPTION:
URL:https://mdr-pulheim.de/event/erstgespraeche-bwo-9d-freitag-21-maerz/
END:VEVENT
BEGIN:VEVENT
DTSTART;VALUE=DATE:20250325
DTEND;VALUE=DATE:20250326
DTSTAMP:20260421T150509
CREATED:20250112T194739Z
LAST-MODIFIED:20250112T194739Z
UID:7234-1742860800-1742947199@mdr-pulheim.de
SUMMARY:Komm-auf-Tour (Klasse 7a) 25.03.2025
DESCRIPTION:
URL:https://mdr-pulheim.de/event/komm-auf-tour-klasse-7a-25-03-2025/
END:VEVENT
BEGIN:VEVENT
DTSTART;VALUE=DATE:20250327
DTEND;VALUE=DATE:20250328
DTSTAMP:20260421T150509
CREATED:20250112T194855Z
LAST-MODIFIED:20250112T194855Z
UID:7236-1743033600-1743119999@mdr-pulheim.de
SUMMARY:Komm-auf-Tour (Klasse 7b\,c) 27.03.
DESCRIPTION:
URL:https://mdr-pulheim.de/event/komm-auf-tour-klasse-7bc-27-03/
END:VEVENT
END:VCALENDAR