BEGIN:VCALENDAR
VERSION:2.0
PRODID:-//MDR - ECPv6.15.20//NONSGML v1.0//EN
CALSCALE:GREGORIAN
METHOD:PUBLISH
X-ORIGINAL-URL:https://mdr-pulheim.de
X-WR-CALDESC:Veranstaltungen für MDR
REFRESH-INTERVAL;VALUE=DURATION:PT1H
X-Robots-Tag:noindex
X-PUBLISHED-TTL:PT1H
BEGIN:VTIMEZONE
TZID:Europe/Berlin
BEGIN:DAYLIGHT
TZOFFSETFROM:+0100
TZOFFSETTO:+0200
TZNAME:CEST
DTSTART:20240331T010000
END:DAYLIGHT
BEGIN:STANDARD
TZOFFSETFROM:+0200
TZOFFSETTO:+0100
TZNAME:CET
DTSTART:20241027T010000
END:STANDARD
BEGIN:DAYLIGHT
TZOFFSETFROM:+0100
TZOFFSETTO:+0200
TZNAME:CEST
DTSTART:20250330T010000
END:DAYLIGHT
BEGIN:STANDARD
TZOFFSETFROM:+0200
TZOFFSETTO:+0100
TZNAME:CET
DTSTART:20251026T010000
END:STANDARD
BEGIN:DAYLIGHT
TZOFFSETFROM:+0100
TZOFFSETTO:+0200
TZNAME:CEST
DTSTART:20260329T010000
END:DAYLIGHT
BEGIN:STANDARD
TZOFFSETFROM:+0200
TZOFFSETTO:+0100
TZNAME:CET
DTSTART:20261025T010000
END:STANDARD
END:VTIMEZONE
BEGIN:VEVENT
DTSTART;TZID=Europe/Berlin:20250203T122500
DTEND;TZID=Europe/Berlin:20250203T122500
DTSTAMP:20260421T162335
CREATED:20250112T193049Z
LAST-MODIFIED:20250112T193049Z
UID:7222-1738585500-1738585500@mdr-pulheim.de
SUMMARY:Nachmittagsunterricht entfällt. Schulschluss 12:25 Uhr MO\, 3. Februar
DESCRIPTION:
URL:https://mdr-pulheim.de/event/nachmittagsunterricht-entfaellt-schulschluss-1225-uhr-mo-3-februar/
END:VEVENT
BEGIN:VEVENT
DTSTART;TZID=Europe/Berlin:20250213T193000
DTEND;TZID=Europe/Berlin:20250213T213000
DTSTAMP:20260421T162335
CREATED:20250112T193222Z
LAST-MODIFIED:20250112T193222Z
UID:7224-1739475000-1739482200@mdr-pulheim.de
SUMMARY:Schulpflegschaft Donnerstag\, 13. Feb. ·19:30 bis 21:30
DESCRIPTION:
URL:https://mdr-pulheim.de/event/schulpflegschaft-donnerstag-13-feb-%c2%b71930-bis-2130/
END:VEVENT
BEGIN:VEVENT
DTSTART;TZID=Europe/Berlin:20250224T080000
DTEND;TZID=Europe/Berlin:20250226T130000
DTSTAMP:20260421T162335
CREATED:20250112T193846Z
LAST-MODIFIED:20250205T123228Z
UID:7226-1740384000-1740574800@mdr-pulheim.de
SUMMARY:Anmeldungen neue 5er Montag bis Mittwoch.\, 24. bis 26.2. Unterlagen s. unten.
DESCRIPTION:Mo: 08:00 bis 16:00 \nDi: 08:00 bis 16:00 \nMi: 08:00 bis 13:00
URL:https://mdr-pulheim.de/event/anmeldungen-neue-5er-montag-bis-mittwoch-24-bis-26-2/
END:VEVENT
BEGIN:VEVENT
DTSTART;TZID=Europe/Berlin:20250227T090000
DTEND;TZID=Europe/Berlin:20250227T123000
DTSTAMP:20260421T162335
CREATED:20250112T194006Z
LAST-MODIFIED:20250227T072705Z
UID:7228-1740646800-1740659400@mdr-pulheim.de
SUMMARY:Weiberfastnacht Unterricht von 8:15-12:15 Uhr Do.\, 27.2
DESCRIPTION:
URL:https://mdr-pulheim.de/event/weiberfastnacht-unterricht-von-900-1230-uhr-do-27-2/
END:VEVENT
BEGIN:VEVENT
DTSTART;VALUE=DATE:20250228
DTEND;VALUE=DATE:20250305
DTSTAMP:20260421T162335
CREATED:20250112T194415Z
LAST-MODIFIED:20250112T195117Z
UID:7230-1740700800-1741132799@mdr-pulheim.de
SUMMARY:Karneval! Kein Unterricht. Freitag\, Montag\, Dienstag 🤡
DESCRIPTION:
URL:https://mdr-pulheim.de/event/karneval-kein-unterricht-freitag-bis-dienstag-%f0%9f%a4%a1/
END:VEVENT
END:VCALENDAR