BEGIN:VCALENDAR
VERSION:2.0
PRODID:-//MDR - ECPv6.15.20//NONSGML v1.0//EN
CALSCALE:GREGORIAN
METHOD:PUBLISH
X-WR-CALNAME:MDR
X-ORIGINAL-URL:https://mdr-pulheim.de
X-WR-CALDESC:Veranstaltungen für MDR
REFRESH-INTERVAL;VALUE=DURATION:PT1H
X-Robots-Tag:noindex
X-PUBLISHED-TTL:PT1H
BEGIN:VTIMEZONE
TZID:Europe/Berlin
BEGIN:DAYLIGHT
TZOFFSETFROM:+0100
TZOFFSETTO:+0200
TZNAME:CEST
DTSTART:20230326T010000
END:DAYLIGHT
BEGIN:STANDARD
TZOFFSETFROM:+0200
TZOFFSETTO:+0100
TZNAME:CET
DTSTART:20231029T010000
END:STANDARD
BEGIN:DAYLIGHT
TZOFFSETFROM:+0100
TZOFFSETTO:+0200
TZNAME:CEST
DTSTART:20240331T010000
END:DAYLIGHT
BEGIN:STANDARD
TZOFFSETFROM:+0200
TZOFFSETTO:+0100
TZNAME:CET
DTSTART:20241027T010000
END:STANDARD
BEGIN:DAYLIGHT
TZOFFSETFROM:+0100
TZOFFSETTO:+0200
TZNAME:CEST
DTSTART:20250330T010000
END:DAYLIGHT
BEGIN:STANDARD
TZOFFSETFROM:+0200
TZOFFSETTO:+0100
TZNAME:CET
DTSTART:20251026T010000
END:STANDARD
END:VTIMEZONE
BEGIN:VEVENT
DTSTART;TZID=Europe/Berlin:20241106T143000
DTEND;TZID=Europe/Berlin:20241106T183000
DTSTAMP:20260421T200506
CREATED:20240911T194715Z
LAST-MODIFIED:20240911T194715Z
UID:7135-1730903400-1730917800@mdr-pulheim.de
SUMMARY:Elternsprechtag: Mi\, 6. Nov. 14:30 – 18:30 Uhr
DESCRIPTION:
URL:https://mdr-pulheim.de/event/elternsprechtag-mi-6-nov-1430-1830-uhr/
END:VEVENT
BEGIN:VEVENT
DTSTART;TZID=Europe/Berlin:20241128T193000
DTEND;TZID=Europe/Berlin:20241128T213000
DTSTAMP:20260421T200506
CREATED:20241002T192342Z
LAST-MODIFIED:20241002T192342Z
UID:7149-1732822200-1732829400@mdr-pulheim.de
SUMMARY:Infoabend Grundschuleltern Donnerstag\, 28. November · 19:30 bis 21:30
DESCRIPTION:
URL:https://mdr-pulheim.de/event/infoabend-grundschuleltern-donnerstag-28-november-%c2%b7-1930-bis-2130/
END:VEVENT
END:VCALENDAR