BEGIN:VCALENDAR
VERSION:2.0
PRODID:-//MDR - ECPv6.15.20//NONSGML v1.0//EN
CALSCALE:GREGORIAN
METHOD:PUBLISH
X-ORIGINAL-URL:https://mdr-pulheim.de
X-WR-CALDESC:Veranstaltungen für MDR
REFRESH-INTERVAL;VALUE=DURATION:PT1H
X-Robots-Tag:noindex
X-PUBLISHED-TTL:PT1H
BEGIN:VTIMEZONE
TZID:Europe/Berlin
BEGIN:DAYLIGHT
TZOFFSETFROM:+0100
TZOFFSETTO:+0200
TZNAME:CEST
DTSTART:20230326T010000
END:DAYLIGHT
BEGIN:STANDARD
TZOFFSETFROM:+0200
TZOFFSETTO:+0100
TZNAME:CET
DTSTART:20231029T010000
END:STANDARD
BEGIN:DAYLIGHT
TZOFFSETFROM:+0100
TZOFFSETTO:+0200
TZNAME:CEST
DTSTART:20240331T010000
END:DAYLIGHT
BEGIN:STANDARD
TZOFFSETFROM:+0200
TZOFFSETTO:+0100
TZNAME:CET
DTSTART:20241027T010000
END:STANDARD
BEGIN:DAYLIGHT
TZOFFSETFROM:+0100
TZOFFSETTO:+0200
TZNAME:CEST
DTSTART:20250330T010000
END:DAYLIGHT
BEGIN:STANDARD
TZOFFSETFROM:+0200
TZOFFSETTO:+0100
TZNAME:CET
DTSTART:20251026T010000
END:STANDARD
END:VTIMEZONE
BEGIN:VEVENT
DTSTART;VALUE=DATE:20240702
DTEND;VALUE=DATE:20240703
DTSTAMP:20260422T021835
CREATED:20240605T120357Z
LAST-MODIFIED:20240605T120357Z
UID:7075-1719878400-1719964799@mdr-pulheim.de
SUMMARY:2.7. 15.00 Uhr Kennenlerntag Stufe 5
DESCRIPTION:
URL:https://mdr-pulheim.de/event/2-7-15-00-uhr-kennenlerntag-stufe-5/
END:VEVENT
BEGIN:VEVENT
DTSTART;VALUE=DATE:20240703
DTEND;VALUE=DATE:20240704
DTSTAMP:20260422T021835
CREATED:20240605T120423Z
LAST-MODIFIED:20240605T120423Z
UID:7077-1719964800-1720051199@mdr-pulheim.de
SUMMARY:3.07.  Sporttag
DESCRIPTION:
URL:https://mdr-pulheim.de/event/3-07-sporttag/
END:VEVENT
BEGIN:VEVENT
DTSTART;TZID=Europe/Berlin:20240705T080500
DTEND;TZID=Europe/Berlin:20240705T103000
DTSTAMP:20260422T021835
CREATED:20240605T120614Z
LAST-MODIFIED:20240605T120820Z
UID:7079-1720166700-1720175400@mdr-pulheim.de
SUMMARY:5.07.  1.-3. Std. KL; Zeugnisausgabe bis 10:30
DESCRIPTION:
URL:https://mdr-pulheim.de/event/5-07-1-3-std-kl-zeugnisausgabe-bis-1030/
END:VEVENT
BEGIN:VEVENT
DTSTART;VALUE=DATE:20240708
DTEND;VALUE=DATE:20240821
DTSTAMP:20260422T021835
CREATED:20240605T121212Z
LAST-MODIFIED:20240605T122049Z
UID:7081-1720396800-1724198399@mdr-pulheim.de
SUMMARY:SOMMERFERIEN 08.07. - 20.08. 😎⛱️
DESCRIPTION:
URL:https://mdr-pulheim.de/event/sommerferien-08-07-20-08/
END:VEVENT
END:VCALENDAR