BEGIN:VCALENDAR
VERSION:2.0
PRODID:-//MDR - ECPv6.15.20//NONSGML v1.0//EN
CALSCALE:GREGORIAN
METHOD:PUBLISH
X-WR-CALNAME:MDR
X-ORIGINAL-URL:https://mdr-pulheim.de
X-WR-CALDESC:Veranstaltungen für MDR
REFRESH-INTERVAL;VALUE=DURATION:PT1H
X-Robots-Tag:noindex
X-PUBLISHED-TTL:PT1H
BEGIN:VTIMEZONE
TZID:Europe/Berlin
BEGIN:DAYLIGHT
TZOFFSETFROM:+0100
TZOFFSETTO:+0200
TZNAME:CEST
DTSTART:20230326T010000
END:DAYLIGHT
BEGIN:STANDARD
TZOFFSETFROM:+0200
TZOFFSETTO:+0100
TZNAME:CET
DTSTART:20231029T010000
END:STANDARD
BEGIN:DAYLIGHT
TZOFFSETFROM:+0100
TZOFFSETTO:+0200
TZNAME:CEST
DTSTART:20240331T010000
END:DAYLIGHT
BEGIN:STANDARD
TZOFFSETFROM:+0200
TZOFFSETTO:+0100
TZNAME:CET
DTSTART:20241027T010000
END:STANDARD
BEGIN:DAYLIGHT
TZOFFSETFROM:+0100
TZOFFSETTO:+0200
TZNAME:CEST
DTSTART:20250330T010000
END:DAYLIGHT
BEGIN:STANDARD
TZOFFSETFROM:+0200
TZOFFSETTO:+0100
TZNAME:CET
DTSTART:20251026T010000
END:STANDARD
END:VTIMEZONE
BEGIN:VEVENT
DTSTART;TZID=Europe/Berlin:20240603T180000
DTEND;TZID=Europe/Berlin:20240603T180000
DTSTAMP:20260422T034035
CREATED:20240322T113036Z
LAST-MODIFIED:20240322T113036Z
UID:7050-1717437600-1717437600@mdr-pulheim.de
SUMMARY:03.06. Uhr Sommerkonzert\, 18.00 Uhr
DESCRIPTION:
URL:https://mdr-pulheim.de/event/03-06-uhr-sommerkonzert-18-00-uhr/
END:VEVENT
BEGIN:VEVENT
DTSTART;VALUE=DATE:20240607
DTEND;VALUE=DATE:20240608
DTSTAMP:20260422T034035
CREATED:20240322T113235Z
LAST-MODIFIED:20240322T113641Z
UID:7052-1717718400-1717804799@mdr-pulheim.de
SUMMARY:07.06. Termin Umwahlen Religion; Termin Profilkurswahl
DESCRIPTION:
URL:https://mdr-pulheim.de/event/07-06-termin-umwahlen-religion-termin-profilkurswahl/
END:VEVENT
BEGIN:VEVENT
DTSTART;VALUE=DATE:20240610
DTEND;VALUE=DATE:20240611
DTSTAMP:20260422T034035
CREATED:20240322T113352Z
LAST-MODIFIED:20240322T113812Z
UID:7054-1717977600-1718063999@mdr-pulheim.de
SUMMARY:10.06. ZP10 Notenbekanntgabe
DESCRIPTION:
URL:https://mdr-pulheim.de/event/10-06-zp10-notenbekanntgabe/
END:VEVENT
BEGIN:VEVENT
DTSTART;VALUE=DATE:20240618
DTEND;VALUE=DATE:20240619
DTSTAMP:20260422T034035
CREATED:20240322T114039Z
LAST-MODIFIED:20240322T114039Z
UID:7056-1718668800-1718755199@mdr-pulheim.de
SUMMARY:18.06. ZP10 mdl. Nachprüfung
DESCRIPTION:
URL:https://mdr-pulheim.de/event/18-06-zp10-mdl-nachpruefung/
END:VEVENT
BEGIN:VEVENT
DTSTART;VALUE=DATE:20240621
DTEND;VALUE=DATE:20240622
DTSTAMP:20260422T034035
CREATED:20240605T120028Z
LAST-MODIFIED:20240605T120028Z
UID:7071-1718928000-1719014399@mdr-pulheim.de
SUMMARY:21.6. Stufe 8: BWO Eltern  stellen Berufe vor.
DESCRIPTION:
URL:https://mdr-pulheim.de/event/21-6-stufe-8-bwo-eltern-stellen-berufe-vor/
END:VEVENT
BEGIN:VEVENT
DTSTART;VALUE=DATE:20240625
DTEND;VALUE=DATE:20240626
DTSTAMP:20260422T034035
CREATED:20240605T120156Z
LAST-MODIFIED:20240605T120156Z
UID:7073-1719273600-1719359999@mdr-pulheim.de
SUMMARY:25.6. Unterrichtsschluss 12.30; Abschlussfeier Stufe 10
DESCRIPTION:
URL:https://mdr-pulheim.de/event/25-6-unterrichtsschluss-12-30-abschlussfeier-stufe-10/
END:VEVENT
END:VCALENDAR