BEGIN:VCALENDAR
VERSION:2.0
PRODID:-//MDR - ECPv6.15.20//NONSGML v1.0//EN
CALSCALE:GREGORIAN
METHOD:PUBLISH
X-WR-CALNAME:MDR
X-ORIGINAL-URL:https://mdr-pulheim.de
X-WR-CALDESC:Veranstaltungen für MDR
REFRESH-INTERVAL;VALUE=DURATION:PT1H
X-Robots-Tag:noindex
X-PUBLISHED-TTL:PT1H
BEGIN:VTIMEZONE
TZID:Europe/Berlin
BEGIN:DAYLIGHT
TZOFFSETFROM:+0100
TZOFFSETTO:+0200
TZNAME:CEST
DTSTART:20230326T010000
END:DAYLIGHT
BEGIN:STANDARD
TZOFFSETFROM:+0200
TZOFFSETTO:+0100
TZNAME:CET
DTSTART:20231029T010000
END:STANDARD
BEGIN:DAYLIGHT
TZOFFSETFROM:+0100
TZOFFSETTO:+0200
TZNAME:CEST
DTSTART:20240331T010000
END:DAYLIGHT
BEGIN:STANDARD
TZOFFSETFROM:+0200
TZOFFSETTO:+0100
TZNAME:CET
DTSTART:20241027T010000
END:STANDARD
BEGIN:DAYLIGHT
TZOFFSETFROM:+0100
TZOFFSETTO:+0200
TZNAME:CEST
DTSTART:20250330T010000
END:DAYLIGHT
BEGIN:STANDARD
TZOFFSETFROM:+0200
TZOFFSETTO:+0100
TZNAME:CET
DTSTART:20251026T010000
END:STANDARD
END:VTIMEZONE
BEGIN:VEVENT
DTSTART;TZID=Europe/Berlin:20240314T190000
DTEND;TZID=Europe/Berlin:20240314T190000
DTSTAMP:20260424T113310
CREATED:20240119T121057Z
LAST-MODIFIED:20240119T121057Z
UID:6967-1710442800-1710442800@mdr-pulheim.de
SUMMARY:Schulkonferenz: Do\, 14. März\, 19:00
DESCRIPTION:
URL:https://mdr-pulheim.de/event/schulkonferenz-do-14-maerz-1900/
END:VEVENT
BEGIN:VEVENT
DTSTART;TZID=Europe/Berlin:20240321T193000
DTEND;TZID=Europe/Berlin:20240321T193000
DTSTAMP:20260424T113310
CREATED:20240205T142137Z
LAST-MODIFIED:20240205T142137Z
UID:7009-1711049400-1711049400@mdr-pulheim.de
SUMMARY:Elterninfo: Stufe 6 „Differenzierung“ 21.03. um 19.30 Uhr
DESCRIPTION:
URL:https://mdr-pulheim.de/event/elterninfo-stufe-6-differenzierung-21-03-um-19-30-uhr/
END:VEVENT
BEGIN:VEVENT
DTSTART;VALUE=DATE:20240323
DTEND;VALUE=DATE:20240408
DTSTAMP:20260424T113310
CREATED:20240205T142504Z
LAST-MODIFIED:20240205T142523Z
UID:7011-1711152000-1712534399@mdr-pulheim.de
SUMMARY:Osterferien  23.3. bis 7.4. :-)
DESCRIPTION:
URL:https://mdr-pulheim.de/event/osterferien-23-3-bis-7-4/
END:VEVENT
END:VCALENDAR