BEGIN:VCALENDAR
VERSION:2.0
PRODID:-//MDR - ECPv6.15.20//NONSGML v1.0//EN
CALSCALE:GREGORIAN
METHOD:PUBLISH
X-ORIGINAL-URL:https://mdr-pulheim.de
X-WR-CALDESC:Veranstaltungen für MDR
REFRESH-INTERVAL;VALUE=DURATION:PT1H
X-Robots-Tag:noindex
X-PUBLISHED-TTL:PT1H
BEGIN:VTIMEZONE
TZID:Europe/Berlin
BEGIN:DAYLIGHT
TZOFFSETFROM:+0100
TZOFFSETTO:+0200
TZNAME:CEST
DTSTART:20230326T010000
END:DAYLIGHT
BEGIN:STANDARD
TZOFFSETFROM:+0200
TZOFFSETTO:+0100
TZNAME:CET
DTSTART:20231029T010000
END:STANDARD
BEGIN:DAYLIGHT
TZOFFSETFROM:+0100
TZOFFSETTO:+0200
TZNAME:CEST
DTSTART:20240331T010000
END:DAYLIGHT
BEGIN:STANDARD
TZOFFSETFROM:+0200
TZOFFSETTO:+0100
TZNAME:CET
DTSTART:20241027T010000
END:STANDARD
BEGIN:DAYLIGHT
TZOFFSETFROM:+0100
TZOFFSETTO:+0200
TZNAME:CEST
DTSTART:20250330T010000
END:DAYLIGHT
BEGIN:STANDARD
TZOFFSETFROM:+0200
TZOFFSETTO:+0100
TZNAME:CET
DTSTART:20251026T010000
END:STANDARD
END:VTIMEZONE
BEGIN:VEVENT
DTSTART;TZID=Europe/Berlin:20241029T080000
DTEND;TZID=Europe/Berlin:20241029T150000
DTSTAMP:20260421T210401
CREATED:20241002T191912Z
LAST-MODIFIED:20241002T191912Z
UID:7145-1730188800-1730214000@mdr-pulheim.de
SUMMARY:SV- Tag - alle Klassensprecher\, 29. Oktober · 08:00 bis 15:00
DESCRIPTION:
URL:https://mdr-pulheim.de/event/sv-tag-alle-klassensprecher-29-oktober-%c2%b7-0800-bis-1500/
END:VEVENT
END:VCALENDAR