BEGIN:VCALENDAR
VERSION:2.0
PRODID:-//MDR - ECPv6.15.20//NONSGML v1.0//EN
CALSCALE:GREGORIAN
METHOD:PUBLISH
X-WR-CALNAME:MDR
X-ORIGINAL-URL:https://mdr-pulheim.de
X-WR-CALDESC:Veranstaltungen für MDR
REFRESH-INTERVAL;VALUE=DURATION:PT1H
X-Robots-Tag:noindex
X-PUBLISHED-TTL:PT1H
BEGIN:VTIMEZONE
TZID:Europe/Berlin
BEGIN:DAYLIGHT
TZOFFSETFROM:+0100
TZOFFSETTO:+0200
TZNAME:CEST
DTSTART:20230326T010000
END:DAYLIGHT
BEGIN:STANDARD
TZOFFSETFROM:+0200
TZOFFSETTO:+0100
TZNAME:CET
DTSTART:20231029T010000
END:STANDARD
BEGIN:DAYLIGHT
TZOFFSETFROM:+0100
TZOFFSETTO:+0200
TZNAME:CEST
DTSTART:20240331T010000
END:DAYLIGHT
BEGIN:STANDARD
TZOFFSETFROM:+0200
TZOFFSETTO:+0100
TZNAME:CET
DTSTART:20241027T010000
END:STANDARD
BEGIN:DAYLIGHT
TZOFFSETFROM:+0100
TZOFFSETTO:+0200
TZNAME:CEST
DTSTART:20250330T010000
END:DAYLIGHT
BEGIN:STANDARD
TZOFFSETFROM:+0200
TZOFFSETTO:+0100
TZNAME:CET
DTSTART:20251026T010000
END:STANDARD
END:VTIMEZONE
BEGIN:VEVENT
DTSTART;TZID=Europe/Berlin:20240929T183000
DTEND;TZID=Europe/Berlin:20240929T183000
DTSTAMP:20260421T233857
CREATED:20240620T123306Z
LAST-MODIFIED:20240620T123306Z
UID:7095-1727634600-1727634600@mdr-pulheim.de
SUMMARY:Ehemaligentreffen: 27.09. um 18:30 Uhr in der MDR Aula
DESCRIPTION:Wir laden alle ehemaligen Schüler und Lehrer der Realschule Pulheim ein\, um über alte Zeiten zu plaudern\, alte Freunde wiederzusehen oder um einfach nur zu schauen\, wie sich die Schule entwickelt hat.
URL:https://mdr-pulheim.de/event/ehemaligentreffen-27-09-um-1830-uhr-in-der-mdr-aula/
END:VEVENT
END:VCALENDAR